BEGIN:VCALENDAR
VERSION:2.0
PRODID:-//Society for Biomaterials and Artificial Organs India - ECPv6.15.20//NONSGML v1.0//EN
CALSCALE:GREGORIAN
METHOD:PUBLISH
X-WR-CALNAME:Society for Biomaterials and Artificial Organs India
X-ORIGINAL-URL:https://biomaterials.org.in
X-WR-CALDESC:Events for Society for Biomaterials and Artificial Organs India
REFRESH-INTERVAL;VALUE=DURATION:PT1H
X-Robots-Tag:noindex
X-PUBLISHED-TTL:PT1H
BEGIN:VTIMEZONE
TZID:Asia/Kolkata
BEGIN:STANDARD
TZOFFSETFROM:+0530
TZOFFSETTO:+0530
TZNAME:IST
DTSTART:20220101T000000
END:STANDARD
END:VTIMEZONE
BEGIN:VTIMEZONE
TZID:UTC
BEGIN:STANDARD
TZOFFSETFROM:+0000
TZOFFSETTO:+0000
TZNAME:UTC
DTSTART:20230101T000000
END:STANDARD
END:VTIMEZONE
BEGIN:VEVENT
DTSTART;VALUE=DATE:20250206
DTEND;VALUE=DATE:20250208
DTSTAMP:20260420T050010
CREATED:20241201T052437Z
LAST-MODIFIED:20241201T052632Z
UID:2540-1738800000-1738972799@biomaterials.org.in
SUMMARY:ICBTD 2025 (February 6-7\, 2025)
DESCRIPTION:International Conference on Clinical Translation of Biomaterial-based Therapeutics and Devices ICBTD 2025\n\nOrganised by Somaiya Centre for Integrated Science Education and Research and Department of Mechanical Engineering\, Somaiya Vidyavihar University. Endorsed by the Society of Biomaterials & Artificial Organs\, India (SBAOI).
URL:https://biomaterials.org.in/event/icbtd-2025-international-conference-on-clinical-translation/
LOCATION:Somaiya Vidyavihar University\, Vidyanagar\, Vidyavihar East\, Mumbai\, Maharashtra\, 400077\, India
ATTACH;FMTTYPE=image/jpeg:https://biomaterials.org.in/wp-content/uploads/2024/12/logo.jpg
ORGANIZER;CN="Somaiya Vidyavihar University":MAILTO:icbtd2025@somaiya.edu
END:VEVENT
BEGIN:VEVENT
DTSTART;VALUE=DATE:20241212
DTEND;VALUE=DATE:20241215
DTSTAMP:20260420T050010
CREATED:20240624T033741Z
LAST-MODIFIED:20240802T075147Z
UID:2111-1733961600-1734220799@biomaterials.org.in
SUMMARY:TransMedTech24 (December 12-14\, 2024)
DESCRIPTION:The International Conference on Advances and Challenges in Medical Technology Translation (TransMedTech-2024) will be held in Thiruvananthapuram\, Kerala\, India during December 12-14\, 2024. This is organized along with the 16th National Conference of the Society for Tissue Engineering and Regenerative Medicine (India) and 34th National Conference of Society for Biomaterials and Artificial Organs (India) and hosted by Sree Chitra Tirunal Institute for Medical Sciences and Technology\, Thiruvananthapuram India.\n\nOn behalf of the Organizing Committee\, it is our great honor to invite all those who are working in the field of Biomaterials\, Artificial Organs\, Medical Devices and Implants\, Tissue Engineering\, Drug Delivery and Regenerative Medicine to showcase your forefront research work. Also\, we warmly welcome the participation of researchers in medicine and dentistry\, industry start-ups\, medical device manufacturers and organizations in MedTech field.
URL:https://biomaterials.org.in/event/transmedtech24/
LOCATION:Hotel DIMORA\, Thiruvananthapuram\, Thampanoor\, Thiruvananthapuram\, Kerala\, India
ATTACH;FMTTYPE=image/jpeg:https://biomaterials.org.in/wp-content/uploads/2024/07/trans-1.jpg
END:VEVENT
BEGIN:VEVENT
DTSTART;TZID=Asia/Kolkata:20241016T080000
DTEND;TZID=Asia/Kolkata:20241018T170000
DTSTAMP:20260420T050010
CREATED:20240722T052207Z
LAST-MODIFIED:20240722T052207Z
UID:2440-1729065600-1729270800@biomaterials.org.in
SUMMARY:Polymers for Advanced Technology
DESCRIPTION:Asian Polymer Association (APA) is a professional society dedicated to the science of polymers. APA has organized several conferences at the international forum and has created a highly interacting platform for the polymer scientists. APA is organizing its next International conference (APA-2024) on Polymers for Advanced Technology in Jaiupr\, Rajasthan\, India to address the priorities and to formulate the action plan to face the challenges ahead. The conference would be dedicated to the polymer science and technology with an extensive interaction among academicians\, researchers\, technologists and policy planners. We have special symposiums on different topics organised by APA Bioforum\, APA Nanoforum and APA Sustainability Forum. A special feature of this event is to organize Student Conclave for the benefit for our young generation. On behalf of APA\, we would like to invite you to participate in this conference and we look forward to welcoming you in The Pink City\, Jaipur.
URL:https://biomaterials.org.in/event/polymers-for-advanced-technology/
LOCATION:Ramada by Wyndham\, Jaisinghpura\, Jaipur\, Jaipur\, Rajasthan\, India
ATTACH;FMTTYPE=image/png:https://biomaterials.org.in/wp-content/uploads/2024/07/apa.png
END:VEVENT
BEGIN:VEVENT
DTSTART;TZID=Asia/Kolkata:20240822T080000
DTEND;TZID=Asia/Kolkata:20240823T170000
DTSTAMP:20260420T050010
CREATED:20240802T073811Z
LAST-MODIFIED:20240802T073811Z
UID:2453-1724313600-1724432400@biomaterials.org.in
SUMMARY:Drug Delivery Symposium 2024
DESCRIPTION:Current Industrial Practices in Product Development and Drug Delivery Technology\, August 22-23\, 2024. Organised by the Department of Pharmaceutics\, NGSM Institute of Pharmaceutical Sciences\, Mangaluru.
URL:https://biomaterials.org.in/event/drug-delivery-symposium-2024/
LOCATION:A B Shetty Memorial Institute of Dental Sciences\, Deralakatte\, Mangaluru\, Karnataka\, 575018\, India
ATTACH;FMTTYPE=image/jpeg:https://biomaterials.org.in/wp-content/uploads/2024/08/drug.jpg
END:VEVENT
BEGIN:VEVENT
DTSTART;VALUE=DATE:20240526
DTEND;VALUE=DATE:20240601
DTSTAMP:20260420T050010
CREATED:20220622T050227Z
LAST-MODIFIED:20230718T222432Z
UID:550-1716681600-1717199999@biomaterials.org.in
SUMMARY:World Biomaterials Congress 2024
DESCRIPTION:World Biomaterials Congress\, May 26-31 2024\, Daegu\, Korea. WBC2024.
URL:https://biomaterials.org.in/event/world-biomaterials-congress-2024/
LOCATION:Representative Exhibition and Convention Center In Korea\, EXCO\, 1676\, Sangyeok-dong\, Buk-gu\, Daegu\, Daegu\, Korea\, Democratic People's Republic of
ATTACH;FMTTYPE=image/png:https://biomaterials.org.in/wp-content/uploads/2022/06/wbc2024.png
END:VEVENT
BEGIN:VEVENT
DTSTART;VALUE=DATE:20231129
DTEND;VALUE=DATE:20231202
DTSTAMP:20260420T050010
CREATED:20230718T225835Z
LAST-MODIFIED:20231003T033558Z
UID:1467-1701216000-1701475199@biomaterials.org.in
SUMMARY:BioTEx 2023 Biomaterials to Technology
DESCRIPTION:International Conference on BIOMEDICAL MATERIALS AND TECHNOLOGY – 2023\, November 29\, 2023 to December 1\, 2023\, Indian Institute of Technology\, Delhi\, India\n\nhttps://www.biotex2023.org/Biotex/
URL:https://biomaterials.org.in/event/biotex-2023/
LOCATION:Centre for Biomedical Engineering\, IIT\, Delhi\, CBME\, Block III\, Room 398\, IIT Delhi\, Hauz Khas\,\, New Delhi\, Delhi\, 110016\, India
ATTACH;FMTTYPE=image/png:https://biomaterials.org.in/wp-content/uploads/2023/07/biotex2023-1.png
ORGANIZER;CN="Centre for Biomedical Engineering":MAILTO:biotexiitd@gmail.com
END:VEVENT
BEGIN:VEVENT
DTSTART;VALUE=DATE:20230810
DTEND;VALUE=DATE:20230812
DTSTAMP:20260420T050010
CREATED:20230718T231053Z
LAST-MODIFIED:20230719T002910Z
UID:1469-1691625600-1691798399@biomaterials.org.in
SUMMARY:BPTEOP: National Workshop on 3D Bioprinting
DESCRIPTION:National Workshop on 3D Bioprinting Technology for Tissue Engineering and Organ Printing\n\nBasics of 3D Bioprinting; 3D Bioprinting Technology in Healthcare; Hands-on Training in 3D Printing.
URL:https://biomaterials.org.in/event/bpteop-national-workshop-on-3d-bioprinting-technology-for-tissue-engineering-and-organ-printing/
LOCATION:Seminar Hall DRDO\, Bharathiar University CLS\, Coimbatore\, Maruthamalai Road\, Coimbatore 641046\, Coimbatore\, Tamilnadu\, Tamilnadu\, India
ATTACH;FMTTYPE=image/jpeg:https://biomaterials.org.in/wp-content/uploads/2023/07/home_entrance_0.jpg
ORGANIZER;CN="Department of Nano-science and Technology%2C Bharathiar University":MAILTO:nbtelbu@gmail.com
END:VEVENT
BEGIN:VEVENT
DTSTART;VALUE=DATE:20230721
DTEND;VALUE=DATE:20230722
DTSTAMP:20260420T050010
CREATED:20230724T035112Z
LAST-MODIFIED:20230724T035745Z
UID:1551-1689897600-1689983999@biomaterials.org.in
SUMMARY:BioTEDD 2023
DESCRIPTION:Biomaterials for Tissue Engineering and Drug Delivery
URL:https://biomaterials.org.in/event/biotedd-2023/
LOCATION:Rajam Hall\, MIT Campus\, MITCampus\, Chromepet\, Chennai\, Tamil Nadu\, 600044\, India
END:VEVENT
END:VCALENDAR