BEGIN:VCALENDAR
VERSION:2.0
PRODID:-//Society for Biomaterials and Artificial Organs India - ECPv6.15.20//NONSGML v1.0//EN
CALSCALE:GREGORIAN
METHOD:PUBLISH
X-ORIGINAL-URL:https://biomaterials.org.in
X-WR-CALDESC:Events for Society for Biomaterials and Artificial Organs India
REFRESH-INTERVAL;VALUE=DURATION:PT1H
X-Robots-Tag:noindex
X-PUBLISHED-TTL:PT1H
BEGIN:VTIMEZONE
TZID:America/New_York
BEGIN:DAYLIGHT
TZOFFSETFROM:-0500
TZOFFSETTO:-0400
TZNAME:EDT
DTSTART:20240310T070000
END:DAYLIGHT
BEGIN:STANDARD
TZOFFSETFROM:-0400
TZOFFSETTO:-0500
TZNAME:EST
DTSTART:20241103T060000
END:STANDARD
BEGIN:DAYLIGHT
TZOFFSETFROM:-0500
TZOFFSETTO:-0400
TZNAME:EDT
DTSTART:20250309T070000
END:DAYLIGHT
BEGIN:STANDARD
TZOFFSETFROM:-0400
TZOFFSETTO:-0500
TZNAME:EST
DTSTART:20251102T060000
END:STANDARD
BEGIN:DAYLIGHT
TZOFFSETFROM:-0500
TZOFFSETTO:-0400
TZNAME:EDT
DTSTART:20260308T070000
END:DAYLIGHT
BEGIN:STANDARD
TZOFFSETFROM:-0400
TZOFFSETTO:-0500
TZNAME:EST
DTSTART:20261101T060000
END:STANDARD
END:VTIMEZONE
BEGIN:VEVENT
DTSTART;TZID=America/New_York:20250409T080000
DTEND;TZID=America/New_York:20250412T123000
DTSTAMP:20260420T014503
CREATED:20240722T032832Z
LAST-MODIFIED:20241201T052815Z
UID:2432-1744185600-1744461000@biomaterials.org.in
SUMMARY:2025 SFB Annual Meeting (April 9-12\, 2025)
DESCRIPTION:The Society For Biomaterials is excited to host the 2025 Annual Meeting at the Hilton Chicago on April 9-12\, 2025. The theme for the SFB 2025 Annual Meeting is Half a Century of Progress: Crafting Resilience in Mind & Matter! \n\nThe 2025 Program Committee is requesting input from all SFB members about sessions they would like to see at the 2025 Annual Meeting. Please complete this form to submit any ideas\, suggestions\, or considerations.\n\nThe deadline to submit is July 8\, 2024.
URL:https://biomaterials.org.in/event/2025-society-for-biomaterials-annual-meeting-exposition/
LOCATION:Hilton Chicago\, 720 South Michigan Avenue\, Chicago\, IL\, IL 60605\, United States
ATTACH;FMTTYPE=image/jpeg:https://biomaterials.org.in/wp-content/uploads/2024/07/sfb.jpg
END:VEVENT
END:VCALENDAR